BEGIN:VCALENDAR
VERSION:2.0
CALSCALE:GREGORIAN
PRODID:-//WordPress//RSVPMaker//EN
METHOD:REQUEST
BEGIN:VEVENT
DTSTAMP:20260421T224853Z
UID:D9FF90F4000EACD3A6C9CB27F78994CF@rsvpmaker.com
SEQUENCE:0
STATUS:CONFIRMED
DTSTART:20190131T013000Z
DTEND:20190131T023000Z
LOCATION:See\: https\://proinvestmentcoach.com/rsvpmaker/mind-over-mon
 ey-investing-class-2019-01-30/
SUMMARY:Mind Over Money Investing Class
DESCRIPTION:Event info\: https\://proinvestmentcoach.com/rsvpmaker/min
 d-over-money-investing-class-2019-01-30/
END:VEVENT
END:VCALENDAR