BEGIN:VCALENDAR
VERSION:2.0
CALSCALE:GREGORIAN
PRODID:-//WordPress//RSVPMaker//EN
METHOD:REQUEST
BEGIN:VEVENT
DTSTAMP:20260421T225542Z
UID:93F9AFB9C2722C929AB1FC38F8786F81@rsvpmaker.com
SEQUENCE:0
STATUS:CONFIRMED
DTSTART:20250612T003000Z
DTEND:20250612T013000Z
LOCATION:See\: https\://proinvestmentcoach.com/rsvpmaker/false-positiv
 e-investing-class/
SUMMARY:False Positive Investing Class
DESCRIPTION:Event info\: https\://proinvestmentcoach.com/rsvpmaker/fal
 se-positive-investing-class/
END:VEVENT
END:VCALENDAR